BEGIN:VCALENDAR
VERSION:2.0
PRODID:-//The Trumpets - ECPv6.15.20//NONSGML v1.0//EN
CALSCALE:GREGORIAN
METHOD:PUBLISH
X-WR-CALNAME:The Trumpets
X-ORIGINAL-URL:https://www.thetrumpets.ro
X-WR-CALDESC:Events for The Trumpets
REFRESH-INTERVAL;VALUE=DURATION:PT1H
X-Robots-Tag:noindex
X-PUBLISHED-TTL:PT1H
BEGIN:VTIMEZONE
TZID:UTC
BEGIN:STANDARD
TZOFFSETFROM:+0000
TZOFFSETTO:+0000
TZNAME:UTC
DTSTART:20210101T000000
END:STANDARD
END:VTIMEZONE
BEGIN:VEVENT
DTSTART;TZID=UTC:20221222T200000
DTEND;TZID=UTC:20221222T230000
DTSTAMP:20260419T182920
CREATED:20221123T124735Z
LAST-MODIFIED:20221123T125312Z
UID:3035-1671739200-1671750000@www.thetrumpets.ro
SUMMARY:Orkid - No Dawn/ lansare single & bere @ The Trumpets
DESCRIPTION:Un concert special\, între prieteni\, cu care Orkid sărbătoresc o dublă lansare – un video pentru ‘No Dawn’\, piesa lor preferată de pe ITLWAS și o bere artizanală NEIPA cu același nume . Berea este produsă de Ironic Taproom\, berăria preferată a celor trei\, și e ceva pe care îl așteptăm cu drag de aproape un an. Biletele vor fi disponibile în curând.\nOrkid\, trioul de shoegazeri nervoși din București\, își definesc stilul ca fiind post-traumatic blues. Pentru ei este definitorie afecțiunea și respectul pentru balene\, orci și tot felul de alte bestii marine\, terestre și extraterestre.\nAvând influențe diverse\, de la punk și garage la post-metal\, de la indie și blues la math\, prog sau chiar muzică academică\, Orkid au lansat până acum următoarele materiale:\n– Standing Still in the Dark (LP) – octombrie 2016\n– Beasts Apart (single) – decembrie 2017\n– Suruaika (EP/ soundtrack) – aprilie 2018.\n– Daily Extinction (single) – decembrie 2018\n– Deraiat (EP) – martie 2020\n– In the Light We Are Safe (LP) – martie 2022
URL:https://www.thetrumpets.ro/event/orkid-no-dawn-lansare-single-si-bere-the-trumpets/
LOCATION:The Trumpets\, Esplanada Teatrul Luceafărul\, Iași\, Iași\, 700259\, Romania
CATEGORIES:Concerts
ATTACH;FMTTYPE=image/jpeg:https://www.thetrumpets.ro/wp-content/uploads/2022/11/311574372_561115232688808_1074806550955367581_n.jpg
ORGANIZER;CN="The Trumpets":MAILTO:hello@thetrumpets.ro
END:VEVENT
BEGIN:VEVENT
DTSTART;TZID=UTC:20221126T200000
DTEND;TZID=UTC:20221126T210000
DTSTAMP:20260419T182920
CREATED:20221123T124254Z
LAST-MODIFIED:20221123T125323Z
UID:3032-1669492800-1669496400@www.thetrumpets.ro
SUMMARY:Grimus @ The Trumpets
DESCRIPTION:Hello\, love!\nPe 26 noiembrie sărbătorim împreună 8 ani fericiți\, plini de iubire\, efort\, oameni frumoși\, dragi și de multă băutură bună pe care am împartașit-o cu voi!\nSalvează data și fii alături de noi\, într-o zi de petrecere\, unde vom avea o companie bestială\, pe băieții de la Grimus\, și vom depăna amintirile acestor 8 ani și vom crea unele noi împreună!\nPetrecerea aniversară este susținută de prietenii noștri de la Johnnie Walker și ne încurajează să ne adunăm în număr cât mai mare! Vocea noastră se aude la Radio Guerilla!\nCu mai bine de 16 ani de activitate\, clujenii de la Grimus au devenit o trupă-fanion a mișcării alternative de la noi din țară. Au lansat până acum patru albume de studio\, cel mai recent – „Unmanageable Species” – în primăvara anului 2018\, și au avut concerte în deschiderea unor mari artiști internaționali precum Queen\, Red Hot Chili Peppers\, Placebo\, Kasabian\, Moby. Grimus au cântat în toate colțurile țării\, dar și în UK\, India\, Olanda\, Bulgaria\, Serbia\, Polonia\, Cehia sau Republica Moldova.\nCu compoziții când energice și optimiste\, când profunde și pline de semnificații\, Grimus aduc cu ei întotdeauna un spectacol sincer\, elegant și plin de vitalitate. În primăvara lui 2022\, trupa a lansat albumul ‚Abandonic’ – prefigurat de single-urile ”Apatrizi”\, ”Albie”\, ”Excepție” și ‚Soarele răsare și singur’.\nLove\, te așteptăm alături de noi să celebrăm 8 ani The Trumpets!\n————–\nPreț bilet: 50lei\nBilete disponibile!\nRezervări și bilete la numărul: 0741274383
URL:https://www.thetrumpets.ro/event/grimus-the-trumpets/
LOCATION:The Trumpets\, Esplanada Teatrul Luceafărul\, Iași\, Iași\, 700259\, Romania
CATEGORIES:Concerts
ATTACH;FMTTYPE=image/jpeg:https://www.thetrumpets.ro/wp-content/uploads/2022/11/grimus@trumpets.jpg
ORGANIZER;CN="The Trumpets":MAILTO:hello@thetrumpets.ro
END:VEVENT
BEGIN:VEVENT
DTSTART;TZID=UTC:20221125T210000
DTEND;TZID=UTC:20221125T220000
DTSTAMP:20260419T182920
CREATED:20221123T122700Z
LAST-MODIFIED:20221123T122700Z
UID:3022-1669410000-1669413600@www.thetrumpets.ro
SUMMARY:Wanted @ The Trumpets
DESCRIPTION:Hello\, love!\nPe 25 noiembrie sărbătorim împreună 8 ani fericiți\, plini de iubire\, efort\, oameni frumoși\, dragi și de multă băutură bună pe care am împartașit-o cu voi!\nSalvează data și fii alături de noi\, într-o zi de petrecere\, unde vom avea o companie bestială\, pe băieții de la Wanted\, și vom depăna amintirile acestor 8 ani și vom crea unele noi împreună!\nPetrecerea aniversară este susținută de prietenii noștri de la Johnnie Walker și ne încurajează să ne adunăm în număr cât mai mare! Vocea noastră se aude la RADIO GUERRILLA!\nÎn 2013 membrii trupei “Wanted” s-au unit pentru un simplu motiv: pasiunea pentru muzică: mai exact: blues\, rock și funk. Încă de atunci Vlad\, Raul\, Codrin și Andrei cântă împreună\, urmând ca în 2018 ultimul membru – Raul Tonegaru – să li se alăture la clape. În paralel\, de-a lungul timpului\, membrii trupei Wanted au devenit și sunt activi și în alte proiecte de succes din Iași\, cum ar fi: Tribute Doors\, Cross Medio\, Aproape Unplugged\, Stash\, Iulian Canaf & Excentric blues band.\nWanted sunt cunoscuți în mediul muzical din Iași pentru abordarea pieselor din repertoriul formațiilor precum: Guns N’ Roses\, Queen\, The Police\, Van Halen\, Robben Ford\, Stevie Wonder\, Sting\, Toto\, Jimi Hendrix\, Michael Jackson\, Bryan Adams și multe altele. Vom fi alături de: Vlad Nedelcu – Voce / Raul Plăcintă – Chitară / Raul Tonegaru – Clape / Codrin Vieriu – Bass\nAndrei Hâncu – Tobe\nLove\, te așteptăm alături de noi să celebrăm 8 ani The Trumpets!\n————–\nIntrare liberă\nRezervări la numărul: 0741274383
URL:https://www.thetrumpets.ro/event/wanted-the-trumpets/
LOCATION:The Trumpets\, Esplanada Teatrul Luceafărul\, Iași\, Iași\, 700259\, Romania
CATEGORIES:Concerts
ATTACH;FMTTYPE=image/jpeg:https://www.thetrumpets.ro/wp-content/uploads/2022/11/wanted@trumpets.jpg
ORGANIZER;CN="The Trumpets":MAILTO:hello@thetrumpets.ro
END:VEVENT
BEGIN:VEVENT
DTSTART;TZID=UTC:20220916T170000
DTEND;TZID=UTC:20220918T030000
DTSTAMP:20260419T182920
CREATED:20220918T061827Z
LAST-MODIFIED:20220918T061852Z
UID:2496-1663347600-1663470000@www.thetrumpets.ro
SUMMARY:Vibes of the weekend
DESCRIPTION:Hello\, love!\nBritish researchers have discovered that the one liner ‘I’m not drinking too much tonight’ never goes as planned. So\, the weekend is here\, it’s time to jump to conclusions\, push your luck\, dodge deadlines\, and drink as much as you can!\nMake your own road that leads to love\, music & drinks!\nMood by Florin Mihăilă
URL:https://www.thetrumpets.ro/event/vibes-of-the-weekend/
LOCATION:The Trumpets\, Esplanada Teatrul Luceafărul\, Iași\, Iași\, 700259\, Romania
CATEGORIES:Concerts
ORGANIZER;CN="The Trumpets":MAILTO:hello@thetrumpets.ro
END:VEVENT
BEGIN:VEVENT
DTSTART;TZID=UTC:20220908T080000
DTEND;TZID=UTC:20220908T170000
DTSTAMP:20260419T182920
CREATED:20220924T080949Z
LAST-MODIFIED:20221123T125250Z
UID:2888-1662624000-1662656400@www.thetrumpets.ro
SUMMARY:Here comes the summer: Dl Goe @ The Trumpets 08.09
DESCRIPTION:Hello\, love!\nHere comes the summer\, love. Late nights with blurry memories\, live music\, unplanned plans\, good old & new friends\, hot weather and cold drinks.\nDin ziua de joi\, 8 septembrie\, facem o sărbătoare și vă invităm la chef și la dans alături de Dl Goe.\nConsiderat unul dintre cele mai eclectice proiecte de pe piața muzicală românească\, Dl Goe s-a remarcat atât prin colaborările inedite de-a lungul timpul (NOSFE\, Cătălin Crișan\, Loredana\, etc)\, cât și prin îmbinarea artei teatrale cu cea muzicală în show-urile și materialele lor discografice. Nu e de mirare\, având în vedere că în componența trupei există 3 actori\, 2 compozitori de muzică de teatru și un regizor de film.\nFormația s-a lansat în primăvara lui 2017 în Micul Paris cu EP-ul „Momente în Schițe”. Stilul de muzică adoptat este o fuziune între pop\, rock\, blues și muzică autentic românească.\nÎn 2019 au lansat albumul lor de debut „Tineri\, Sâmbătă\, Duminică”\, 13 melodii care amestecă teatrul radiofonic cu melodii despre un Goe ajuns la vârsta maturității. În această poveste spusă de muzicieni și 10 actori (George Pistereanu\, Ana Udroiu\, Dani Ionescu\, Alexandru Nagy\, Alina Chinie\, Alice Suarasan\, etc)\, Dl Goe lucrează în zilele noastre la un Shop’N’Go unde se îndrăgostește de o clientă alături de care fuge la mare preț de 3 zile.\nÎn 2022\, pregătesc lansarea celui de-al doilea album\, „Fata Morgana”\, o continuare a poveștii de pe „Tineri\, Sâmbată\, Duminică”.\nDe-a lungul celor 5 ani de existență\, au avut parte de 5 piese nr 1 în topurile alternative – Golan (alături de Loredana Groza)\, 23 Decembrie\, Fata de la Radio\, Ioana și Dacă Pleci (o reinterpretare a faimosului șlagăr alături de NOSFE și Cătălin Crișan).\nDe asemenea au avut o prezență activă în cadrul festivalurilor și cluburilor din România (Sofar București\, Femei Pe Mătăsari\, Afterhills\, Rocanotherworld\, Romanian Creative Week\, Street Delivery\, The Pub\, Expirat\, Control\, etc).\nÎn 2018 și 2019 s-au remarcat prin turneele lor Shop’N’Goe în casele și apartamentele oamenilor.\nDomnii care compun Dl Goe:\nDl Dani – Voce\, Clapa\, Chitară\nDl Horea – Voce\, Clapa\, Saxofon\, Percutii\nDl Andrei – Voce\, Chitară\nDl Cosminel – Chitară 2\nDl Laur – Voce\, Bass\nDl T – Tobe\n__________________\nPreț bilet: 40 lei\nBiletele pot fi achiziționate din pub\, de la colegii noștri de la bar. Te așteptăm love!
URL:https://www.thetrumpets.ro/event/here-comes-the-summer-dl-goe-the-trumpets-08-09/
LOCATION:The Trumpets\, Esplanada Teatrul Luceafărul\, Iași\, Iași\, 700259\, Romania
CATEGORIES:Concerts
ORGANIZER;CN="The Trumpets":MAILTO:hello@thetrumpets.ro
END:VEVENT
END:VCALENDAR